BEGIN:VCALENDAR
VERSION:2.0
PRODID:-//Mirjam Koops - ECPv6.15.20//NONSGML v1.0//EN
CALSCALE:GREGORIAN
METHOD:PUBLISH
X-WR-CALNAME:Mirjam Koops
X-ORIGINAL-URL:https://www.mirjamkoops.nl
X-WR-CALDESC:Evenementen voor Mirjam Koops
REFRESH-INTERVAL;VALUE=DURATION:PT1H
X-Robots-Tag:noindex
X-PUBLISHED-TTL:PT1H
BEGIN:VTIMEZONE
TZID:UTC
BEGIN:STANDARD
TZOFFSETFROM:+0000
TZOFFSETTO:+0000
TZNAME:UTC
DTSTART:20250101T000000
END:STANDARD
END:VTIMEZONE
BEGIN:VTIMEZONE
TZID:Europe/Amsterdam
BEGIN:DAYLIGHT
TZOFFSETFROM:+0100
TZOFFSETTO:+0200
TZNAME:CEST
DTSTART:20260329T010000
END:DAYLIGHT
BEGIN:STANDARD
TZOFFSETFROM:+0200
TZOFFSETTO:+0100
TZNAME:CET
DTSTART:20261025T010000
END:STANDARD
BEGIN:DAYLIGHT
TZOFFSETFROM:+0100
TZOFFSETTO:+0200
TZNAME:CEST
DTSTART:20270328T010000
END:DAYLIGHT
BEGIN:STANDARD
TZOFFSETFROM:+0200
TZOFFSETTO:+0100
TZNAME:CET
DTSTART:20271031T010000
END:STANDARD
BEGIN:DAYLIGHT
TZOFFSETFROM:+0100
TZOFFSETTO:+0200
TZNAME:CEST
DTSTART:20280326T010000
END:DAYLIGHT
BEGIN:STANDARD
TZOFFSETFROM:+0200
TZOFFSETTO:+0100
TZNAME:CET
DTSTART:20281029T010000
END:STANDARD
END:VTIMEZONE
BEGIN:VEVENT
DTSTART;TZID=UTC:20260920T093000
DTEND;TZID=UTC:20260920T173000
DTSTAMP:20260420T090320
CREATED:20260402T140349Z
LAST-MODIFIED:20260402T141456Z
UID:3057-1789896600-1789925400@www.mirjamkoops.nl
SUMMARY:Mindful Boetseren 1 - Het Lichaam
DESCRIPTION:HET LICHAAM thuis in je lijf\, nascholing voor hulpverleners\nTijdens deze nascholing ligt de focus op het verstevigen of herstellen van de verbinding met je lichaam.\nHet contact maken met en ervaren van je lichaam staat centraal tijdens deze scholing.\nHet boetseren nodigt uit om ervaringen tastbaar te maken. Het element aarde (de klei) zorgt voor vormkracht en gronding. \nJij bent niet je gedachten en je gevoelens \nDat wat van binnen gevoeld en gedacht wordt kan je voor je neerzetten op tafel\, je kan er naar kijken. Op deze manier heeft het boetseren een zeer krachtige werking in het afstand nemen van de identificatie met onze gedachten en gevoelens. \nHet activeren van je zintuigen \nHet boetseren is een fysieke activiteit. De klei in je handen geeft een fysieke sensatie (structuur\, temperatuur\, geur\, gewicht) en dat werkt door op de rest van je lichaam. De klei geeft daarmee een directe ingang tot verbinding met het lichaam.\nHet creëren en creatief bezig zijn maakt tevens ruimte voor levensplezier. \nOude pijn los laten \nHet geboetseerde beeld kan een tijd bewaard worden en meegenomen worden in de beoefening van mindfulness. Het kan ook helend zijn om het boetseerbeeld weer op te laten lossen in aarde en daarmee actief en bewust blokkades en oude pijn los te laten. \nOngemak leren verdragen \nVaak is onze automatische reactie bij ongemak dat we er van af willen\, het ongemak op willen lossen. We verliezen dan regelmatig de verbinding met het lichaam.\nDoor te mediteren leer je dat het er juist om gaat ongemak te verdragen. Je kijkt als het ware je angsten (pijn) in de ogen en blijft daarbij aanwezig. Niet vanuit een strijdlustige en kritische houding\, maar vanuit een milde liefdevolle benadering naar jezelf en naar datgene waar je mee worstelt. \nWijs omgaan met pijn in het lichaam\n\nMet name het strijden (verzetten of vluchten) tegen het ongemak zorgt voor verkramping in het lichaam. ‘’Pijn’’ hoort nu eenmaal bij het leven hier op aarde. Door er wijs mee om te gaan\, creëren we ruimte voor mildheid en verzachting in het lichaam.\nMeditatie en compassie zijn een krachtige ingang om bovenstaand proces in beweging te brengen richting acceptatie en heling. \nVoor wie is deze nascholing geschikt?\nVoor alle hulpverleners die zich willen scholen in een mindful manier van werken. Therapeuten die werken met cliënten waarbij het hoofd overbelast is en het contact met het lichaam ‘verloren’.\n(trauma\, eetstoornissen\, angsten\, depressie\, burn-out)\nErvaring met boetseren is niet nodig.\nHet is ook een fijne scholing voor de therapeut zelf om met mindful boetseren\, LICHAAM en ZIEL te voeden. \nPraktische informatie\nTijd  9.30-17.30\nAccreditatie Vaktherapie punten: 7\nKosten:165 euro\ninclusief materialen: 1 brood klei\, meditaties\, gedichten\, theorie\nkoffie/thee\, koek\, fruit\, soep \nDatum: 20 SEPTEMBER \nMEER INFORMATIE OP PAGINA NASCHOLING
URL:https://www.mirjamkoops.nl/event/mindful-boetseren-1-het-lichaam/
LOCATION:Groene Bark\, Vlielandstraat 2\, Zaandam\, Nederland\, 1506 ZK\, Netherlands
CATEGORIES:Nascholing voor hulpverleners
ATTACH;FMTTYPE=image/jpeg:https://www.mirjamkoops.nl/wp-content/uploads/2025/06/thuis-in-je-lijf-boetseren.jpg
ORGANIZER;CN="Mirjam Koops":MAILTO:mirjam@mirjamkoops.nl
END:VEVENT
BEGIN:VEVENT
DTSTART;TZID=UTC:20261025T093000
DTEND;TZID=UTC:20261025T173000
DTSTAMP:20260420T090320
CREATED:20260402T142057Z
LAST-MODIFIED:20260402T142316Z
UID:3061-1792920600-1792949400@www.mirjamkoops.nl
SUMMARY:Mindful Boetseren 2 - ZELFCOMPASSIE
DESCRIPTION:Een veilige plek om te zijn\nnascholing voor hulpverleners\nTijdens deze nascholingsdag Mindful Boetseren 2 – Zelfcompassie ligt de nadruk op het versterken van de beleving van een innerlijk gevoel van veiligheid. \nOnveilig voelen \nWe hebben allemaal ervaringen opgedaan waardoor ons natuurlijke gevoel van veiligheid en vertrouwen beschadigd kan zijn. Als kind ben je onbevangen\, open en vol verwachting. Maar niet zelden worden grenzen overschreden en ontwikkel je strategieën in het omgaan met afwijzing. Vaak blijken deze strategieën later niet meer helpend\, maar eerder vormen van ongezonde coping\, ontstaan uit een poging om met pijn en onveiligheid om te gaan. \nInnerlijk landschap \nEen gevoel van veiligheid verdiepen door het verbeelden van een innerlijk landschap\, waarin mildheid en vriendelijkheid centraal staan. Door het activeren van de zintuigen wordt de ervaring aan een prettige en veilige plek opgeroepen en tastbaar gemaakt. \nLiefdevolle wens \nDe focus ligt op het verbinden met één van de belangrijkste kwaliteiten van het hart: liefdevolle vriendelijkheid. We verdiepen deze kwaliteit en ervaren van daaruit een vriendelijke wens voor onszelf\, die vervolgens intuïtief wordt uitgebeeld in klei. \nReflectievragen \nDoor middel van meditaties en boetseeroefeningen richten we ons op het versterken van jouw natuurlijke gevoel van veiligheid. Elke meditatie wordt afgewisseld met boetseerwerk. Tussendoor word je uitgenodigd om via korte reflectievragen stil te staan bij je eigen ervaring in het moment.\nDaarnaast zijn er gezamenlijke reflectie moment\, waarbij we een brug slaan naar de toepassing in het werken met cliënten. \n‘’Ik blijf in diep vertrouwen omdat ik weet; alles wat ik meemaak in dit leven heeft een betekenis en door het aan te kijken kan ik mijzelf helen. Ik weet inmiddels; alles gaat ook weer voorbij en vluchten of vechten zijn geen compassionele manieren om met pijn om te gaan.\nIk kan te alle tijden weer die veilige plek in mijzelf opzoeken en mildheid beoefenen’’. \nVoor wie is deze nascholing geschikt? \nVoor alle hulpverleners die zich willen scholen in een mindful manier van werken. Therapeuten die werken met cliënten waarbij het hoofd overbelast is en het contact met het lichaam ‘verloren’. Hulpverleners die werken met cliënten waarbij het thema veiligheid en zelfcompassie een rol speelt in de behandeling. Zoals bij cliënten met een laag zelfbeeld gepaard met onzekerheid en (faal) angst\, of trauma\, rouw\, eetstoornissen\, depressie\, burn-out.\nErvaring met boetseren is niet nodig.\nHet is ook een fijne scholing voor de therapeut zelf\, mindful boetseren\, en LICHAAM en ZIEL te voeden. \n\nPraktische informatie\nTijd:  9.30-17.30 \nAccreditatie punten: 7\nRegister Vaktherapie \nKosten: 2026\n165 euro\,- \ninclusief materialen\, 1 brood klei\, meditaties op audio\, gedichten\nkoffie/thee\, koek\, fruit\, soep \nDatum: ZONDAG 25 OKTOBER \nMEER INFORMATIE OP PAGINA NASCHOLING
URL:https://www.mirjamkoops.nl/event/mindful-boetseren-2-zelfcompassie/
LOCATION:Vlielandstraat 2\, Vlielandstraat 2\, Zaandam\, noord holland\, 1506 ZK\, Netherlands
ATTACH;FMTTYPE=image/jpeg:https://www.mirjamkoops.nl/wp-content/uploads/2025/06/inline.jpg
ORGANIZER;CN="Mirjam Koops":MAILTO:mirjam@mirjamkoops.nl
END:VEVENT
BEGIN:VEVENT
DTSTART;TZID=UTC:20261129T093000
DTEND;TZID=UTC:20261129T173000
DTSTAMP:20260420T090320
CREATED:20260402T142622Z
LAST-MODIFIED:20260402T143057Z
UID:3064-1795944600-1795973400@www.mirjamkoops.nl
SUMMARY:Mindful Boetseren 4 - Heling (schematherapie)
DESCRIPTION:HELING zorgen voor je kwetsbare kind\nNascholing voor hulpverleners\nTijdens het ochtendprogramma van deze nascholing richten we ons op het contact maken met het kind in onszelf. We gaan bewust terug naar het verleden en nodigen het kind\, dat je ooit was\, uit om zichtbaar te worden. Dit doen we op een veilige\, open en milde manier\, waarbij je onderzoekt wat fijn was\, wat gemist werd en waar nog onverwerkte emoties liggen. \nIn het middagprogramma ligt de focus op de Gezonde Volwassene. We onderzoeken hoe dit deel van onszelf er kan zijn voor onze kinddelen\, waarbij de nadruk ligt op liefdevol\, begrenzend en steunend aanwezig te zijn. \nDoor de nascholing ervaar je heling van onverwerkte delen\, versterk je je zelfcompassie en word je nog bewuster van gezonde en helpende patronen. We werken met de uitgangspunten van de schematherapie\, zodat je zowel persoonlijk als professioneel steviger in je werk staat. \nErvaringsgericht werken \nTijdens deze nascholing maken we gebruik van ervaringsgerichte werkvormen zoals meditatie en boetseren. Het is een krachtige manier om emoties niet alleen te begrijpen\, maar ook daadwerkelijk te voelen en te doorleven\, en om nieuwe\, helpende ervaringen op te doen. \nHeling van de innerlijke kinddelen\nWerken met kindmodi \nTijdens deze nascholing werken we met begrippen uit de schematherapie. Alle aandacht gaat uit naar het Kwetsbare Kind\, het Blije Kind en de Gezonde Volwassenen.\nDe innerlijke kinddelen dragen gevoelens\, behoeften en ervaringen uit de kindertijd. Soms gaat het om pijn en gemis\, soms om speelsheid en levenslust die op de achtergrond zijn geraakt. \nErkennen wat er was \nHeling begint bij aandacht en erkenning. Wat vroeger niet gezien\, gehoord of serieus genomen werd\, mag er nu wel zijn. Door hier met mildheid bij stil te staan\, ontstaat er ruimte voor verzachting en herstel. \nDe rol van de Gezonde Volwassene \nVanuit de Gezonde Volwassene-modus leert de cliënt op een nieuwe manier aanwezig te zijn bij deze kinddelen: zorgend\, beschermend en begrenzend waar nodig. Het gaat niet om ‘goed doen’\, maar om betrouwbaar\, betrokken en liefdevol te zijn bij zichzelf. \nVan kwetsbaar naar veerkracht \nDoor het Kwetsbare Kind te ondersteunen\, neemt de innerlijke spanning af en verliezen oude schema’s en beschermende patronen aan kracht. Door het Blije Kind bewust te voeden\, ontstaat er meer ruimte voor plezier\, ontspanning en verbinding. Het werken met innerlijke kinddelen draagt zo niet alleen bij aan vermindering van klachten\, maar ook aan meer veerkracht en vitaliteit in het dagelijks leven. \nTherapeutisch doel \nHet therapeutisch doel is dat cliënten leren herkennen welk kinddeel actief is\, dit deel erkennen en er vanuit hun Gezonde Volwassene op reageren. Zo ontstaat stap voor stap een warmere en meer ondersteunende relatie met zichzelf\, die helpend is in het hier en nu. \nHoe was het voor jou om kind te zijn? \nTijdens de nascholing onderzoeken we hoe het voor je was om kind te zijn. Was het fijn? Wat maakte het fijn? En als het niet fijn was\, wat maakte het dan moeilijk of pijnlijk? Je staat stil bij wat je als kind nodig had\, maar misschien niet (voldoende) hebt gekregen. Wat heeft dit kind gemist aan aandacht\, veiligheid\, erkenning\, liefde of steun? \nVoor therapeuten die zichzelf blijven meenemen in hun werk \nOok jij herkent het vast: in het werken met cliënten gaan zo nu en dan weer luikjes open. Innerlijke kinddelen worden geraakt\, oude thema’s dienen zich aan of gevoelens worden subtiel aangeraakt. Dat is geen zwakte\, maar een logisch en waardevol onderdeel van dit vak. \nRuimte voor wat nog aandacht vraagt \nHoe mooi is het om in deze nascholing bewust het licht te laten schijnen op die innerlijke kinddelen? Delen die misschien ooit zijn ontstaan in jouw eigen geschiedenis en die nog iets vragen: erkenning\, verzachting of heling. Niet omdat er iets ‘opgelost’ moet worden\, maar omdat ook jij als therapeut mag blijven groeien. \nVersterk jouw Gezonde Volwassene \nIn deze nascholing krijg je de ruimte om je Gezonde Volwassene verder te verdiepen en te versterken. Je onderzoekt hoe je zorgend\, begrenzend en steunend aanwezig kunt zijn bij jezelf\, juist op momenten dat kwetsbare delen geraakt worden. Dat vergroot je innerlijke stevigheid en zelfvertrouwen. \nSteviger staan in je werk als therapeut \nDoor zelf te ervaren\, te vertragen en te verdiepen\, vergroot je je draagkracht. Je leert hoe jouw eigen proces direct bijdraagt aan meer rust\, helderheid en effectiviteit in het werken met cliënten. Wat je zelf doorleeft\, kun je ook met meer authenticiteit doorgeven. \nEen nascholing die je voedt \nDeze nascholing biedt niet alleen verdieping in kennis en methodiek\, maar raakt ook jou als mens en professional. Een uitnodiging om jezelf opnieuw mee te nemen in je vak\, zodat je met hernieuwde energie en compassie naast je cliënten kunt blijven staan. \nVoor wie is deze nascholing geschikt?\nVoor alle hulpverleners die zich willen scholen in een mindful manier van werken. Therapeuten die werken met cliënten waarbij het hoofd overbelast is en het contact met het lichaam ‘verloren’. Hulpverleners die werken met cliënten waarbij het thema veiligheid en zelfcompassie een rol speelt in de behandeling. Zoals bij cliënten met een laag zelfbeeld gepaard met onzekerheid en (faal) angst\, of trauma\, rouw\, eetstoornissen\, depressie\, burn-out.\nErvaring met boetseren is niet nodig.\nMindful Boetseren is ook een fijne scholing voor de therapeut zelf\, om LICHAAM en ZIEL te voeden. \nPraktische informatie\nDatum: 29 NOVEMBER 2026\nTijd  9.30-17.30\nAccreditatie Vaktherapie Register punten: 7\nKosten:165 euro\ninclusief materialen: 1 brood klei\, meditaties\, gedichten\, theorie\nkoffie/thee\, koek\, fruit\, soep \nMEER INFORMATIE OP PAGINA NASCHOLING
URL:https://www.mirjamkoops.nl/event/mindful-boetseren-4-heling-schematherapie/
ATTACH;FMTTYPE=image/jpeg:https://www.mirjamkoops.nl/wp-content/uploads/2025/08/IMG_3302.jpg
ORGANIZER;CN="Mirjam Koops":MAILTO:mirjam@mirjamkoops.nl
END:VEVENT
BEGIN:VEVENT
DTSTART;TZID=Europe/Amsterdam:20270117T093000
DTEND;TZID=Europe/Amsterdam:20270117T170000
DTSTAMP:20260420T090320
CREATED:20250828T205015Z
LAST-MODIFIED:20260419T115823Z
UID:1934-1800178200-1800205200@www.mirjamkoops.nl
SUMMARY:Mindful Boetseren 5 - VERGEVING
DESCRIPTION:VERGEVING voorbij boosheid\nNascholing voor hulpverleners\nIn deze nascholing onderzoeken we de helende kracht van vergeving. Niet alleen het vergeven van de ander\, maar ook en misschien wel vooral het vergeven van onszelf.\nDeze nascholing is geïnspireerd op het  boek Compassievol leven van Frits Koster en Erik van den Brink en we werken met rituelen uit het boek van vergeving van Willem Glaudemans. ‘’Of we nu onszelf of de ander vergeven\, het betekent niet dat we de daad goedkeuren of dienen te vergeten; integendeel\, we zijn bereid en bieden juist de mogelijkheid om ervan te leren’’.\nMet meditaties en boetseeroefeningen verdiepen we de verbinding met lichaam en hart\, openen we ruimte voor wat dit thema in onszelf aanraakt\, en verdiepen we het vermogen om onze cliënten dit proces op een liefdevolle en afgestemde manier te laten ervaren. \n“As I walked out the door toward the gate that would lead to my freedom\,\nI knew if I didn’t leave my bitterness and hatred behind\,\nI’d still be in prison.” Nelson Mandela \nOpzet en doel van de nascholing \nIn deze nascholing werken we in de ochtend met het thema zelfvergeving. We richten ons op een herinnering of actuele ervaring die moeilijk te accepteren is en onderzoeken een gebied waarin innerlijke hardheid voelbaar is\, vaak verbonden met gevoelens van schuld\, schaamte\, spijt of wroeging. Vanuit professionele zelfreflectie ontstaat ruimte voor bewustwording\, verzachting en innerlijke helderheid.\nIn de middag werken we via meditaties en boetseeroefeningen verder in het oefenen met de bereidheid om anderen te vergeven. \nVergeving is een innerlijk proces \nVergeving gaat niet over het gedrag van de ander\, maar over wat er in jou gebeurt. Het is een verschuiving in waarneming: van oordeel naar inzicht\, van angst naar liefde. Je laat los wat jij zelf vasthoudt. \nHet ego kan niet vergeven \nHet ego leeft van afscheiding\, schuld en slachtofferschap. Het wil gelijk krijgen\, vasthouden aan pijn en verhalen herhalen. Ware vergeving komt niet uit het ego\, maar uit een dieper bewustzijn waarin je je herinnert wie je werkelijk bent. \nJe blijft verbonden aan dat wat je veroordeelt \nDoor iemand (of jezelf) schuldig te houden\, blijf je innerlijk verbonden aan de pijn. Vergeving bevrijdt niet de ander\, maar jezelf. Je laat de last van het oordeel los en herwint innerlijke vrede. \nDe ander is een spiegel \nAlles wat je in de ander veroordeelt\, verwijst naar iets in jezelf dat gezien en geheeld wil worden. Vergeving is het herkennen dat de ander jou helpt bewust te worden van innerlijke overtuigingen die niet waar zijn. \nVergeving herstelt de verbinding \nWaar het ego afscheiding ziet\, herkent vergeving eenheid. Door te vergeven herinner je je dat jij en de ander niet gescheiden zijn\, maar voortkomen uit dezelfde bron van liefde. \nBereidheid is voldoende \nJe hoeft nog niet te weten hoe je moet vergeven. De bereidheid om anders te kijken is genoeg. Deze openheid nodigt een diepere wijsheid uit die het werk voor je doet. \nMet behulp van meditaties en boetseeroefeningen ervaren deelnemers hoe bereidheid tot vergeving ruimte\, verzachting en perspectief kan brengen. Deze werkvormen bieden concrete\, belichaamde handvatten die direct toepasbaar zijn in de professionele praktijk\, waardoor begeleiders cliënten op een afgestemde\, veilige en compassievolle manier kunnen ondersteunen in hun eigen vergevingsproces. \nVoor wie is deze nascholing geschikt?\nVoor alle hulpverleners die zich willen scholen in een mindful manier van werken. Therapeuten die werken met cliënten waarbij het hoofd overbelast is en het contact met het lichaam ‘verloren’. Hulpverleners die werken met cliënten waarbij het thema veiligheid en zelfcompassie een rol speelt in de behandeling. Zoals bij cliënten met een laag zelfbeeld gepaard met onzekerheid en (faal) angst\, of trauma\, rouw\, eetstoornissen\, depressie\, burn-out.\nErvaring met boetseren is niet nodig.\nMindful Boetseren is ook een fijne scholing voor de therapeut zelf\, om LICHAAM en ZIEL te voeden. \nPraktische informatie\nDatum: 17 januari 2027\nTijd  9.30-17.30\nAccreditatie Vaktherapie Register punten: 7\nKosten:165 euro\ninclusief materialen: 1 brood klei\, meditaties\, gedichten\, theorie\nkoffie/thee\, koek\, fruit\, soep \nMEER INFORMATIE OP PAGINA NASCHOLING
URL:https://www.mirjamkoops.nl/event/mindful-boetseren-5-vergeving-voorbij-boosheid-nascholing-voor-hulpverleners-2/
ATTACH;FMTTYPE=image/jpeg:https://www.mirjamkoops.nl/wp-content/uploads/2025/02/1000008253.jpg
END:VEVENT
END:VCALENDAR